BEGIN:VCALENDAR
VERSION:2.0
PRODID:icalendar-ruby
CALSCALE:GREGORIAN
METHOD:PUBLISH
BEGIN:VEVENT
DTSTAMP:20260423T160315Z
UID:41-469710@htlcredbank.org
DTSTART:20260426T180000Z
DTEND:20260426T190000Z
CLASS:PUBLIC
CREATED:20260416T064659
DESCRIPTION:Dear Members of Holy Trinity\,\nWe invite you to attend a Spec
 ial Congregational Meeting on April 26\, immediately following worship\, t
 o consider an exciting opportunity for our church.\nThe NJ Synod has launc
 hed a Mortgage Capital Match Grant program\, offering a 2-to-1 match on
  funds raised for mortgage reduction. For Holy Trinity\, this means that i
 f we raise $25\,000\, we can pay off our $75\,000 mortgage in full.\nThi
 s is a one-time opportunity\, made possible by funds from the NJ Synod. 
 \nTo participate\, we must receive congregational approval to begin a capi
 tal campaign. The meeting will be brief and focused\, with:\n\nA short pre
 sentation from the Finance Committee\nA single vote to authorize the campa
 ign\n\nAdditional details about the campaign will be shared at the meeting
  and in the weeks ahead.\nWe hope you will join us for this important and 
 exciting step in the life of our church\,\nHoly Trinity Church Council
LAST-MODIFIED:20260416T064659
LOCATION:
SUMMARY:Special Congregational Meeting 4/26/2026
URL;VALUE=URI:https://htlcredbank.org/events/special-congregational-meeting
 -4-26-2026/2026-04-26
ATTACH;FILENAME=IMG_7197.jpg;FMTTYPE=image/jpeg:https://dq5pwpg1q8ru0.cloud
 front.net/2026/04/16/13/46/59/4f52f18c-8116-4191-9cc8-3f194a7af12d/IMG_719
 7.jpg
END:VEVENT
END:VCALENDAR
