BEGIN:VCALENDAR
VERSION:2.0
PRODID:icalendar-ruby
CALSCALE:GREGORIAN
METHOD:PUBLISH
BEGIN:VEVENT
DTSTAMP:20260423T142336Z
UID:25-259204@htlcredbank.org
DTSTART:20260426T170000Z
DTEND:20260426T180000Z
CLASS:PUBLIC
CREATED:20260106T090807
DESCRIPTION:
LAST-MODIFIED:20260106T090807
LOCATION:
SUMMARY:Sunday School
URL;VALUE=URI:https://htlcredbank.org/events/sunday-school--25/2026-04-26
ATTACH;FILENAME=Sunday-School-Spring-2026-Postcard.png;FMTTYPE=image/png:ht
 tps://dq5pwpg1q8ru0.cloudfront.net/2026/01/06/17/08/06/d1e2ab61-5cb0-4ac8-
 93bf-2675dc4c45f9/Sunday-School-Spring-2026-Postcard.png
END:VEVENT
END:VCALENDAR
